BEGIN:VCALENDAR
VERSION:2.0
PRODID:-//Asociación de Karate-do Ikigai - ECPv6.15.20//NONSGML v1.0//EN
CALSCALE:GREGORIAN
METHOD:PUBLISH
X-ORIGINAL-URL:https://karatedoikigai.es
X-WR-CALDESC:Eventos para Asociación de Karate-do Ikigai
REFRESH-INTERVAL;VALUE=DURATION:PT1H
X-Robots-Tag:noindex
X-PUBLISHED-TTL:PT1H
BEGIN:VTIMEZONE
TZID:UTC
BEGIN:STANDARD
TZOFFSETFROM:+0000
TZOFFSETTO:+0000
TZNAME:UTC
DTSTART:20200101T000000
END:STANDARD
END:VTIMEZONE
BEGIN:VEVENT
DTSTART;TZID=UTC:20210529T110000
DTEND;TZID=UTC:20210529T120000
DTSTAMP:20260424T162330
CREATED:20210516T140628Z
LAST-MODIFIED:20210516T140731Z
UID:19479-1622286000-1622289600@karatedoikigai.es
SUMMARY:Seminario Sensei Hirayama Yuko
DESCRIPTION:
URL:https://karatedoikigai.es/event/seminario-sensei-hirayama-yuko/
ATTACH;FMTTYPE=image/jpeg:https://karatedoikigai.es/wp-content/uploads/2021/05/7296e6b5-69ba-4d2a-bb9d-bbf6435ddbdc-1.jpg
END:VEVENT
END:VCALENDAR