BEGIN:VCALENDAR
VERSION:2.0
PRODID:-//Asociación de Karate-do Ikigai - ECPv6.15.20//NONSGML v1.0//EN
CALSCALE:GREGORIAN
METHOD:PUBLISH
X-WR-CALNAME:Asociación de Karate-do Ikigai
X-ORIGINAL-URL:https://karatedoikigai.es
X-WR-CALDESC:Eventos para Asociación de Karate-do Ikigai
REFRESH-INTERVAL;VALUE=DURATION:PT1H
X-Robots-Tag:noindex
X-PUBLISHED-TTL:PT1H
BEGIN:VTIMEZONE
TZID:UTC
BEGIN:STANDARD
TZOFFSETFROM:+0000
TZOFFSETTO:+0000
TZNAME:UTC
DTSTART:20200101T000000
END:STANDARD
END:VTIMEZONE
BEGIN:VEVENT
DTSTART;TZID=UTC:20210530T110000
DTEND;TZID=UTC:20210530T130000
DTSTAMP:20260424T162132
CREATED:20210516T140250Z
LAST-MODIFIED:20210516T140326Z
UID:19474-1622372400-1622379600@karatedoikigai.es
SUMMARY:II Curso Técnico JKA Andalucía
DESCRIPTION:
URL:https://karatedoikigai.es/event/ii-curso-tecnico-jka-andalucia/
LOCATION:Granada
ATTACH;FMTTYPE=image/jpeg:https://karatedoikigai.es/wp-content/uploads/2021/05/391487fb-1ba8-49b3-93dc-505d569c293a.jpg
END:VEVENT
END:VCALENDAR