BEGIN:VCALENDAR
VERSION:2.0
PRODID:-//Asociación de Karate-do Ikigai - ECPv6.15.20//NONSGML v1.0//EN
CALSCALE:GREGORIAN
METHOD:PUBLISH
X-ORIGINAL-URL:https://karatedoikigai.es
X-WR-CALDESC:Eventos para Asociación de Karate-do Ikigai
REFRESH-INTERVAL;VALUE=DURATION:PT1H
X-Robots-Tag:noindex
X-PUBLISHED-TTL:PT1H
BEGIN:VTIMEZONE
TZID:UTC
BEGIN:STANDARD
TZOFFSETFROM:+0000
TZOFFSETTO:+0000
TZNAME:UTC
DTSTART:20220101T000000
END:STANDARD
END:VTIMEZONE
BEGIN:VEVENT
DTSTART;TZID=UTC:20230317T080000
DTEND;TZID=UTC:20230319T170000
DTSTAMP:20260423T091309
CREATED:20230228T164702Z
LAST-MODIFIED:20230228T164702Z
UID:20112-1679040000-1679245200@karatedoikigai.es
SUMMARY:Curso Ibiza (Kobayashi)
DESCRIPTION:
URL:https://karatedoikigai.es/event/curso-ibiza-kobayashi/
LOCATION:Ibiza\, España
END:VEVENT
END:VCALENDAR