BEGIN:VCALENDAR
VERSION:2.0
PRODID:-//Asociación de Karate-do Ikigai - ECPv6.15.20//NONSGML v1.0//EN
CALSCALE:GREGORIAN
METHOD:PUBLISH
X-WR-CALNAME:Asociación de Karate-do Ikigai
X-ORIGINAL-URL:https://karatedoikigai.es
X-WR-CALDESC:Eventos para Asociación de Karate-do Ikigai
REFRESH-INTERVAL;VALUE=DURATION:PT1H
X-Robots-Tag:noindex
X-PUBLISHED-TTL:PT1H
BEGIN:VTIMEZONE
TZID:UTC
BEGIN:STANDARD
TZOFFSETFROM:+0000
TZOFFSETTO:+0000
TZNAME:UTC
DTSTART:20220101T000000
END:STANDARD
END:VTIMEZONE
BEGIN:VEVENT
DTSTART;VALUE=DATE:20230325
DTEND;VALUE=DATE:20230326
DTSTAMP:20260423T091130
CREATED:20230228T164807Z
LAST-MODIFIED:20230228T164807Z
UID:20115-1679702400-1679788799@karatedoikigai.es
SUMMARY:Exámenes Kyu
DESCRIPTION:
URL:https://karatedoikigai.es/event/examenes-kyu/
LOCATION:Polideportivo Las Lagunas Mijas\, Camino del Albero 14\, Mijas\, Malaga\, 29651\, España
END:VEVENT
END:VCALENDAR