BEGIN:VCALENDAR
VERSION:2.0
PRODID:-//Asociación de Karate-do Ikigai - ECPv6.15.20//NONSGML v1.0//EN
CALSCALE:GREGORIAN
METHOD:PUBLISH
X-WR-CALNAME:Asociación de Karate-do Ikigai
X-ORIGINAL-URL:https://karatedoikigai.es
X-WR-CALDESC:Eventos para Asociación de Karate-do Ikigai
REFRESH-INTERVAL;VALUE=DURATION:PT1H
X-Robots-Tag:noindex
X-PUBLISHED-TTL:PT1H
BEGIN:VTIMEZONE
TZID:UTC
BEGIN:STANDARD
TZOFFSETFROM:+0000
TZOFFSETTO:+0000
TZNAME:UTC
DTSTART:20220101T000000
END:STANDARD
END:VTIMEZONE
BEGIN:VEVENT
DTSTART;VALUE=DATE:20230513
DTEND;VALUE=DATE:20230514
DTSTAMP:20260423T053917
CREATED:20230321T083329Z
LAST-MODIFIED:20230430T195234Z
UID:20162-1683936000-1684022399@karatedoikigai.es
SUMMARY:Campeonato Interclub (Mijas)
DESCRIPTION:
URL:https://karatedoikigai.es/event/campeonato-interclub/
LOCATION:Polideportivo Osunillas\, Mijas\, Malaga\, 29650\, España
ATTACH;FMTTYPE=image/jpeg:https://karatedoikigai.es/wp-content/uploads/2023/03/WhatsApp-Image-2023-04-14-at-18.44.51.jpeg
END:VEVENT
END:VCALENDAR