BEGIN:VCALENDAR
VERSION:2.0
PRODID:-//Asociación de Karate-do Ikigai - ECPv6.15.20//NONSGML v1.0//EN
CALSCALE:GREGORIAN
METHOD:PUBLISH
X-ORIGINAL-URL:https://karatedoikigai.es
X-WR-CALDESC:Eventos para Asociación de Karate-do Ikigai
REFRESH-INTERVAL;VALUE=DURATION:PT1H
X-Robots-Tag:noindex
X-PUBLISHED-TTL:PT1H
BEGIN:VTIMEZONE
TZID:UTC
BEGIN:STANDARD
TZOFFSETFROM:+0000
TZOFFSETTO:+0000
TZNAME:UTC
DTSTART:20230101T000000
END:STANDARD
END:VTIMEZONE
BEGIN:VEVENT
DTSTART;VALUE=DATE:20240630
DTEND;VALUE=DATE:20240701
DTSTAMP:20260422T070832
CREATED:20231230T170500Z
LAST-MODIFIED:20231230T170500Z
UID:20664-1719705600-1719791999@karatedoikigai.es
SUMMARY:Entrenamiento Técnico y Exámenes Kyu IKIGAI
DESCRIPTION:
URL:https://karatedoikigai.es/event/entrenamiento-tecnico-y-examenes-kyu-ikigai/
END:VEVENT
END:VCALENDAR