BEGIN:VCALENDAR
VERSION:2.0
PRODID:-//Asociación de Karate-do Ikigai - ECPv6.15.20//NONSGML v1.0//EN
CALSCALE:GREGORIAN
METHOD:PUBLISH
X-WR-CALNAME:Asociación de Karate-do Ikigai
X-ORIGINAL-URL:https://karatedoikigai.es
X-WR-CALDESC:Eventos para Asociación de Karate-do Ikigai
REFRESH-INTERVAL;VALUE=DURATION:PT1H
X-Robots-Tag:noindex
X-PUBLISHED-TTL:PT1H
BEGIN:VTIMEZONE
TZID:UTC
BEGIN:STANDARD
TZOFFSETFROM:+0000
TZOFFSETTO:+0000
TZNAME:UTC
DTSTART:20240101T000000
END:STANDARD
END:VTIMEZONE
BEGIN:VEVENT
DTSTART;VALUE=DATE:20250614
DTEND;VALUE=DATE:20250615
DTSTAMP:20260421T135449
CREATED:20250126T115409Z
LAST-MODIFIED:20250126T115409Z
UID:21117-1749859200-1749945599@karatedoikigai.es
SUMMARY:2º Copa Andalucía Katas y Kihon Kumite Equipos (Alhama de Granada)
DESCRIPTION:
URL:https://karatedoikigai.es/event/2o-copa-andalucia-katas-y-kihon-kumite-equipos-alhama-de-granada/
LOCATION:Alhama de Granada\, Granada\, Spain
END:VEVENT
END:VCALENDAR