BEGIN:VCALENDAR
VERSION:2.0
PRODID:-//Asociación de Karate-do Ikigai - ECPv6.15.20//NONSGML v1.0//EN
CALSCALE:GREGORIAN
METHOD:PUBLISH
X-ORIGINAL-URL:https://karatedoikigai.es
X-WR-CALDESC:Eventos para Asociación de Karate-do Ikigai
REFRESH-INTERVAL;VALUE=DURATION:PT1H
X-Robots-Tag:noindex
X-PUBLISHED-TTL:PT1H
BEGIN:VTIMEZONE
TZID:UTC
BEGIN:STANDARD
TZOFFSETFROM:+0000
TZOFFSETTO:+0000
TZNAME:UTC
DTSTART:20200101T000000
END:STANDARD
END:VTIMEZONE
BEGIN:VEVENT
DTSTART;TZID=UTC:20211009T100000
DTEND;TZID=UTC:20211009T140000
DTSTAMP:20260424T083456
CREATED:20210804T102525Z
LAST-MODIFIED:20210804T104116Z
UID:19676-1633773600-1633788000@karatedoikigai.es
SUMMARY:II Curso Técnico JKA Mijas
DESCRIPTION:Descarga documento: Información II Curso Técnico JKA
URL:https://karatedoikigai.es/event/ii-curso-tecnico-jka-mijas/
LOCATION:Polideportivo Osunillas\, Mijas\, Malaga\, 29650\, España
ATTACH;FMTTYPE=image/jpeg:https://karatedoikigai.es/wp-content/uploads/2021/08/IMG-20210801-WA0007.jpg
END:VEVENT
END:VCALENDAR