BEGIN:VCALENDAR
VERSION:2.0
PRODID:-//Asociación de Karate-do Ikigai - ECPv6.15.20//NONSGML v1.0//EN
CALSCALE:GREGORIAN
METHOD:PUBLISH
X-ORIGINAL-URL:https://karatedoikigai.es
X-WR-CALDESC:Eventos para Asociación de Karate-do Ikigai
REFRESH-INTERVAL;VALUE=DURATION:PT1H
X-Robots-Tag:noindex
X-PUBLISHED-TTL:PT1H
BEGIN:VTIMEZONE
TZID:UTC
BEGIN:STANDARD
TZOFFSETFROM:+0000
TZOFFSETTO:+0000
TZNAME:UTC
DTSTART:20210101T000000
END:STANDARD
END:VTIMEZONE
BEGIN:VEVENT
DTSTART;TZID=UTC:20221106T100000
DTEND;TZID=UTC:20221106T130000
DTSTAMP:20260423T125455
CREATED:20221102T073459Z
LAST-MODIFIED:20221102T073459Z
UID:20034-1667728800-1667739600@karatedoikigai.es
SUMMARY:Entrenamiento Técnico
DESCRIPTION:
URL:https://karatedoikigai.es/event/entrenamiento-tecnico/
LOCATION:Polideportivo Osunillas\, Mijas\, Malaga\, 29650\, España
ATTACH;FMTTYPE=image/jpeg:https://karatedoikigai.es/wp-content/uploads/2022/11/e119ab69-8c9a-409c-8f0b-763da5474fb4.jpg
END:VEVENT
BEGIN:VEVENT
DTSTART;TZID=UTC:20221126T100000
DTEND;TZID=UTC:20221126T140000
DTSTAMP:20260423T125455
CREATED:20221102T073921Z
LAST-MODIFIED:20221102T074025Z
UID:20041-1669456800-1669471200@karatedoikigai.es
SUMMARY:Curso Karate JKA
DESCRIPTION:Para más detalles consultar el documento: Curso de Otoño 2022\n\n \n\nPara asistir se requiere mandar a jkaandalucia@gmail.com la hoja de inscripción que se encuentra aquí: hoja de inscripción
URL:https://karatedoikigai.es/event/curso-karate-jka/
LOCATION:Motril\, Calle Camino del Cerro del Toro\, Motril\, Granada\, España
ATTACH;FMTTYPE=image/jpeg:https://karatedoikigai.es/wp-content/uploads/2022/11/CARTEL-CURSO-OTOÑO-2022.jpg
END:VEVENT
END:VCALENDAR