BEGIN:VCALENDAR
VERSION:2.0
PRODID:-//Asociación de Karate-do Ikigai - ECPv6.15.20//NONSGML v1.0//EN
CALSCALE:GREGORIAN
METHOD:PUBLISH
X-WR-CALNAME:Asociación de Karate-do Ikigai
X-ORIGINAL-URL:https://karatedoikigai.es
X-WR-CALDESC:Eventos para Asociación de Karate-do Ikigai
REFRESH-INTERVAL;VALUE=DURATION:PT1H
X-Robots-Tag:noindex
X-PUBLISHED-TTL:PT1H
BEGIN:VTIMEZONE
TZID:UTC
BEGIN:STANDARD
TZOFFSETFROM:+0000
TZOFFSETTO:+0000
TZNAME:UTC
DTSTART:20210101T000000
END:STANDARD
END:VTIMEZONE
BEGIN:VEVENT
DTSTART;VALUE=DATE:20221218
DTEND;VALUE=DATE:20221219
DTSTAMP:20260423T112911
CREATED:20221102T074911Z
LAST-MODIFIED:20221211T190527Z
UID:20049-1671321600-1671407999@karatedoikigai.es
SUMMARY:1ª Copa Andalucía Infantil/Juvenil/Cadete/Veteranos
DESCRIPTION:
URL:https://karatedoikigai.es/event/1a-copa-andalucia-infantil-juvenil-cadete-veteranos/
LOCATION:Adra\, Adra\, Almería\, España
ATTACH;FMTTYPE=image/jpeg:https://karatedoikigai.es/wp-content/uploads/2022/11/WhatsApp-Image-2022-11-30-at-12.47.02.jpeg
END:VEVENT
END:VCALENDAR