BEGIN:VCALENDAR
VERSION:2.0
PRODID:-//Asociación de Karate-do Ikigai - ECPv6.15.20//NONSGML v1.0//EN
CALSCALE:GREGORIAN
METHOD:PUBLISH
X-ORIGINAL-URL:https://karatedoikigai.es
X-WR-CALDESC:Eventos para Asociación de Karate-do Ikigai
REFRESH-INTERVAL;VALUE=DURATION:PT1H
X-Robots-Tag:noindex
X-PUBLISHED-TTL:PT1H
BEGIN:VTIMEZONE
TZID:UTC
BEGIN:STANDARD
TZOFFSETFROM:+0000
TZOFFSETTO:+0000
TZNAME:UTC
DTSTART:20220101T000000
END:STANDARD
END:VTIMEZONE
BEGIN:VEVENT
DTSTART;VALUE=DATE:20231202
DTEND;VALUE=DATE:20231203
DTSTAMP:20260422T134136
CREATED:20230321T084830Z
LAST-MODIFIED:20230321T084830Z
UID:20189-1701475200-1701561599@karatedoikigai.es
SUMMARY:Copa de España Cadete\, Junior\, Senior (Motril)
DESCRIPTION:
URL:https://karatedoikigai.es/event/copa-de-espana-cadete-junior-senior-motril/
END:VEVENT
BEGIN:VEVENT
DTSTART;VALUE=DATE:20231216
DTEND;VALUE=DATE:20231217
DTSTAMP:20260422T134136
CREATED:20230321T084920Z
LAST-MODIFIED:20230321T084920Z
UID:20191-1702684800-1702771199@karatedoikigai.es
SUMMARY:Exámenes de Kyu (Infantil)
DESCRIPTION:
URL:https://karatedoikigai.es/event/examenes-de-kyu-infantil/
END:VEVENT
BEGIN:VEVENT
DTSTART;VALUE=DATE:20231217
DTEND;VALUE=DATE:20231218
DTSTAMP:20260422T134136
CREATED:20230321T085005Z
LAST-MODIFIED:20230321T085017Z
UID:20193-1702771200-1702857599@karatedoikigai.es
SUMMARY:Curso Técnico/Exámenes Adultos (Osunillas)
DESCRIPTION:
URL:https://karatedoikigai.es/event/curso-tecnico-examenes-adultos-osunillas/
LOCATION:Polideportivo Osunillas\, Mijas\, Malaga\, 29650\, España
END:VEVENT
BEGIN:VEVENT
DTSTART;VALUE=DATE:20231221
DTEND;VALUE=DATE:20231222
DTSTAMP:20260422T134136
CREATED:20230321T085050Z
LAST-MODIFIED:20230321T085050Z
UID:20195-1703116800-1703203199@karatedoikigai.es
SUMMARY:Keiko Osame
DESCRIPTION:
URL:https://karatedoikigai.es/event/keiko-osame/
END:VEVENT
END:VCALENDAR