BEGIN:VCALENDAR
VERSION:2.0
PRODID:-//Asociación de Karate-do Ikigai - ECPv6.15.20//NONSGML v1.0//EN
CALSCALE:GREGORIAN
METHOD:PUBLISH
X-WR-CALNAME:Asociación de Karate-do Ikigai
X-ORIGINAL-URL:https://karatedoikigai.es
X-WR-CALDESC:Eventos para Asociación de Karate-do Ikigai
REFRESH-INTERVAL;VALUE=DURATION:PT1H
X-Robots-Tag:noindex
X-PUBLISHED-TTL:PT1H
BEGIN:VTIMEZONE
TZID:UTC
BEGIN:STANDARD
TZOFFSETFROM:+0000
TZOFFSETTO:+0000
TZNAME:UTC
DTSTART:20230101T000000
END:STANDARD
END:VTIMEZONE
BEGIN:VEVENT
DTSTART;VALUE=DATE:20241107
DTEND;VALUE=DATE:20241111
DTSTAMP:20260421T221107
CREATED:20231230T171500Z
LAST-MODIFIED:20231230T171522Z
UID:20681-1730937600-1731283199@karatedoikigai.es
SUMMARY:Seminario Internacional Karate-do JKA Shina Katsutoshi (Barcelona)
DESCRIPTION:
URL:https://karatedoikigai.es/event/seminario-internacional-karate-do-jka-shina-katsutoshi/
END:VEVENT
BEGIN:VEVENT
DTSTART;TZID=UTC:20241109T103000
DTEND;TZID=UTC:20241109T140000
DTSTAMP:20260421T221107
CREATED:20231230T171357Z
LAST-MODIFIED:20241021T084826Z
UID:20679-1731148200-1731160800@karatedoikigai.es
SUMMARY:3ª Copa de Andalucía JKA (Mijas)
DESCRIPTION:
URL:https://karatedoikigai.es/event/3a-copa-de-andalucia-jka-mijas/
LOCATION:Polideportivo de La Cala de Mijas\, Avda. Sierra de las Nieves\, La Cala de Mijas\, Málaga\, 29649\, España
ATTACH;FMTTYPE=image/jpeg:https://karatedoikigai.es/wp-content/uploads/2024/10/Imagen-de-WhatsApp-2024-10-20-a-las-22.00.56_1043e509.jpg
END:VEVENT
BEGIN:VEVENT
DTSTART;VALUE=DATE:20241122
DTEND;VALUE=DATE:20241125
DTSTAMP:20260421T221107
CREATED:20231230T171613Z
LAST-MODIFIED:20231230T171613Z
UID:20684-1732233600-1732492799@karatedoikigai.es
SUMMARY:ESKA /European Shotokan Karate-do Championship / 2024 PORTUGAL
DESCRIPTION:
URL:https://karatedoikigai.es/event/eska-european-shotokan-karate-do-championship-2024-portugal/
END:VEVENT
BEGIN:VEVENT
DTSTART;VALUE=DATE:20241130
DTEND;VALUE=DATE:20241201
DTSTAMP:20260421T221107
CREATED:20241021T084741Z
LAST-MODIFIED:20241021T084741Z
UID:20832-1732924800-1733011199@karatedoikigai.es
SUMMARY:II Copa Nacional JKA España
DESCRIPTION:
URL:https://karatedoikigai.es/event/ii-copa-nacional-jka-espana/
LOCATION:Torredonjimeno\, Jaén\, España
ATTACH;FMTTYPE=image/jpeg:https://karatedoikigai.es/wp-content/uploads/2024/10/Imagen-de-WhatsApp-2024-10-20-a-las-22.00.04_46b782ba.jpg
END:VEVENT
END:VCALENDAR