BEGIN:VCALENDAR
VERSION:2.0
PRODID:-//Asociación de Karate-do Ikigai - ECPv6.15.20//NONSGML v1.0//EN
CALSCALE:GREGORIAN
METHOD:PUBLISH
X-ORIGINAL-URL:https://karatedoikigai.es
X-WR-CALDESC:Eventos para Asociación de Karate-do Ikigai
REFRESH-INTERVAL;VALUE=DURATION:PT1H
X-Robots-Tag:noindex
X-PUBLISHED-TTL:PT1H
BEGIN:VTIMEZONE
TZID:UTC
BEGIN:STANDARD
TZOFFSETFROM:+0000
TZOFFSETTO:+0000
TZNAME:UTC
DTSTART:20230101T000000
END:STANDARD
END:VTIMEZONE
BEGIN:VEVENT
DTSTART;VALUE=DATE:20241221
DTEND;VALUE=DATE:20241222
DTSTAMP:20260421T205453
CREATED:20231230T171709Z
LAST-MODIFIED:20231230T171709Z
UID:20686-1734739200-1734825599@karatedoikigai.es
SUMMARY:Entrenamiento Técnico y Exámenes Kyu IKIGAI
DESCRIPTION:
URL:https://karatedoikigai.es/event/entrenamiento-tecnico-y-examenes-kyu-ikigai-2/
END:VEVENT
BEGIN:VEVENT
DTSTART;VALUE=DATE:20241226
DTEND;VALUE=DATE:20241227
DTSTAMP:20260421T205453
CREATED:20231230T171745Z
LAST-MODIFIED:20231230T171745Z
UID:20688-1735171200-1735257599@karatedoikigai.es
SUMMARY:Keiko Osame
DESCRIPTION:
URL:https://karatedoikigai.es/event/keiko-osame-2/
END:VEVENT
END:VCALENDAR