BEGIN:VCALENDAR
VERSION:2.0
PRODID:-//Asociación de Karate-do Ikigai - ECPv6.15.20//NONSGML v1.0//EN
CALSCALE:GREGORIAN
METHOD:PUBLISH
X-WR-CALNAME:Asociación de Karate-do Ikigai
X-ORIGINAL-URL:https://karatedoikigai.es
X-WR-CALDESC:Eventos para Asociación de Karate-do Ikigai
REFRESH-INTERVAL;VALUE=DURATION:PT1H
X-Robots-Tag:noindex
X-PUBLISHED-TTL:PT1H
BEGIN:VTIMEZONE
TZID:UTC
BEGIN:STANDARD
TZOFFSETFROM:+0000
TZOFFSETTO:+0000
TZNAME:UTC
DTSTART:20240101T000000
END:STANDARD
END:VTIMEZONE
BEGIN:VEVENT
DTSTART;VALUE=DATE:20250222
DTEND;VALUE=DATE:20250223
DTSTAMP:20260421T181008
CREATED:20250126T114221Z
LAST-MODIFIED:20250126T114237Z
UID:21096-1740182400-1740268799@karatedoikigai.es
SUMMARY:Curso de Kumite (Granada)
DESCRIPTION:
URL:https://karatedoikigai.es/event/curso-de-kumite-granada/
LOCATION:Granada
ATTACH;FMTTYPE=image/jpeg:https://karatedoikigai.es/wp-content/uploads/2025/01/Imagen-de-WhatsApp-2025-01-20-a-las-07.31.58_8ecacade.jpg
END:VEVENT
END:VCALENDAR